BEGIN:VCALENDAR
VERSION:2.0
PRODID:-//Fraternitat de Clarisses de Vilobí d’Onyar - Girona | Hostatgeria - ECPv5.11.0//NONSGML v1.0//EN
CALSCALE:GREGORIAN
METHOD:PUBLISH
X-WR-CALNAME:Fraternitat de Clarisses de Vilobí d’Onyar - Girona | Hostatgeria
X-ORIGINAL-URL:https://clarisas.cat/es/
X-WR-CALDESC:Eventos para Fraternitat de Clarisses de Vilobí d’Onyar - Girona | Hostatgeria
BEGIN:VTIMEZONE
TZID:Europe/Madrid
BEGIN:DAYLIGHT
TZOFFSETFROM:+0100
TZOFFSETTO:+0200
TZNAME:CEST
DTSTART:20190331T010000
END:DAYLIGHT
BEGIN:STANDARD
TZOFFSETFROM:+0200
TZOFFSETTO:+0100
TZNAME:CET
DTSTART:20191027T010000
END:STANDARD
END:VTIMEZONE
BEGIN:VEVENT
DTSTART;TZID=Europe/Madrid:20190824T180000
DTEND;TZID=Europe/Madrid:20190824T223000
DTSTAMP:20260423T112651
CREATED:20190816T065219Z
LAST-MODIFIED:20190816T065219Z
UID:16153-1566669600-1566685800@clarisas.cat
SUMMARY:APLEC DE SANTA CLARA 2019
DESCRIPTION:Comparteix-ho!
URL:https://clarisas.cat/es/acte-clarisses-girona/aplec-de-santa-clara-2019/
ORGANIZER;CN="COMISSI%C3%93%20DE%20SANTA%20CLARA":MAILTO:info@clarisas.cat
END:VEVENT
END:VCALENDAR